BEGIN:VCALENDAR
VERSION:2.0
PRODID:-//Tukios.com/
BEGIN:VEVENT
UID:56fcbb48-2415-4b51-be92-5e576e2e5b5b@www.greenerpasturesfuneralhome.com
DTSTAMP:20260425T223634Z
DTSTART:20260509T150000Z
DTEND:20260509T160000Z
SUMMARY:Celebration of Life
DESCRIPTION:
URL:https://www.greenerpasturesfuneralhome.com/obituaries/akylah-sharrai-young
LOCATION: 4192 Brownsville Rd  Powder Springs GA 30127
GEO:33.8515524;-84.6940378
END:VEVENT
END:VCALENDAR