BEGIN:VCALENDAR
VERSION:2.0
PRODID:-//Tukios.com/
BEGIN:VEVENT
UID:16145a92-84c7-43a5-b3b4-6f9b2a463893@www.greenerpasturesfuneralhome.com
DTSTAMP:20260425T224140Z
DTSTART:20260508T220000Z
DTEND:20260508T230000Z
SUMMARY:Visitation
DESCRIPTION:
URL:https://www.greenerpasturesfuneralhome.com/obituaries/akylah-sharrai-young
LOCATION: 4405 Marietta St  Powder Springs GA 30127
GEO:33.8592634;-84.682605
END:VEVENT
END:VCALENDAR